BEGIN:VCALENDAR
VERSION:2.0
PRODID:-//jEvents 2.0 for Joomla//EN
CALSCALE:GREGORIAN
METHOD:PUBLISH
BEGIN:VTIMEZONE
TZID:America/Los_Angeles
BEGIN:STANDARD
DTSTART:20221217T193000
RDATE:20230312T030000
TZOFFSETFROM:-0700
TZOFFSETTO:-0800
TZNAME:America/Los_Angeles PST
END:STANDARD
BEGIN:STANDARD
DTSTART:20231105T010000
RDATE:20240310T030000
TZOFFSETFROM:-0700
TZOFFSETTO:-0800
TZNAME:America/Los_Angeles PST
END:STANDARD
BEGIN:STANDARD
DTSTART:20241103T010000
RDATE:20250309T030000
TZOFFSETFROM:-0700
TZOFFSETTO:-0800
TZNAME:America/Los_Angeles PST
END:STANDARD
BEGIN:STANDARD
DTSTART:20251102T010000
RDATE:20260308T030000
TZOFFSETFROM:-0700
TZOFFSETTO:-0800
TZNAME:America/Los_Angeles PST
END:STANDARD
BEGIN:STANDARD
DTSTART:20261101T010000
RDATE:20270314T030000
TZOFFSETFROM:-0700
TZOFFSETTO:-0800
TZNAME:America/Los_Angeles PST
END:STANDARD
BEGIN:STANDARD
DTSTART:20271107T010000
RDATE:20280312T030000
TZOFFSETFROM:-0700
TZOFFSETTO:-0800
TZNAME:America/Los_Angeles PST
END:STANDARD
BEGIN:STANDARD
DTSTART:20281105T010000
RDATE:20290311T030000
TZOFFSETFROM:-0700
TZOFFSETTO:-0800
TZNAME:America/Los_Angeles PST
END:STANDARD
BEGIN:STANDARD
DTSTART:20291104T010000
RDATE:20300310T030000
TZOFFSETFROM:-0700
TZOFFSETTO:-0800
TZNAME:America/Los_Angeles PST
END:STANDARD
BEGIN:STANDARD
DTSTART:20301103T010000
RDATE:20310309T030000
TZOFFSETFROM:-0700
TZOFFSETTO:-0800
TZNAME:America/Los_Angeles PST
END:STANDARD
BEGIN:STANDARD
DTSTART:20311102T010000
RDATE:20320314T030000
TZOFFSETFROM:-0700
TZOFFSETTO:-0800
TZNAME:America/Los_Angeles PST
END:STANDARD
BEGIN:DAYLIGHT
DTSTART:20230312T030000
RDATE:20231105T010000
TZOFFSETFROM:-0800
TZOFFSETTO:-0700
TZNAME:America/Los_Angeles PDT
END:DAYLIGHT
BEGIN:DAYLIGHT
DTSTART:20240310T030000
RDATE:20241103T010000
TZOFFSETFROM:-0800
TZOFFSETTO:-0700
TZNAME:America/Los_Angeles PDT
END:DAYLIGHT
BEGIN:DAYLIGHT
DTSTART:20250309T030000
RDATE:20251102T010000
TZOFFSETFROM:-0800
TZOFFSETTO:-0700
TZNAME:America/Los_Angeles PDT
END:DAYLIGHT
BEGIN:DAYLIGHT
DTSTART:20260308T030000
RDATE:20261101T010000
TZOFFSETFROM:-0800
TZOFFSETTO:-0700
TZNAME:America/Los_Angeles PDT
END:DAYLIGHT
BEGIN:DAYLIGHT
DTSTART:20270314T030000
RDATE:20271107T010000
TZOFFSETFROM:-0800
TZOFFSETTO:-0700
TZNAME:America/Los_Angeles PDT
END:DAYLIGHT
BEGIN:DAYLIGHT
DTSTART:20280312T030000
RDATE:20281105T010000
TZOFFSETFROM:-0800
TZOFFSETTO:-0700
TZNAME:America/Los_Angeles PDT
END:DAYLIGHT
BEGIN:DAYLIGHT
DTSTART:20290311T030000
RDATE:20291104T010000
TZOFFSETFROM:-0800
TZOFFSETTO:-0700
TZNAME:America/Los_Angeles PDT
END:DAYLIGHT
BEGIN:DAYLIGHT
DTSTART:20300310T030000
RDATE:20301103T010000
TZOFFSETFROM:-0800
TZOFFSETTO:-0700
TZNAME:America/Los_Angeles PDT
END:DAYLIGHT
BEGIN:DAYLIGHT
DTSTART:20310309T030000
RDATE:20311102T010000
TZOFFSETFROM:-0800
TZOFFSETTO:-0700
TZNAME:America/Los_Angeles PDT
END:DAYLIGHT
END:VTIMEZONE
BEGIN:VEVENT
UID:c2a5abeaca769ac601db351315f87a68
CATEGORIES:Meetings
CREATED:20240429T201833
SUMMARY:Protest Prayer Team Status Meeting
LOCATION:Zoom link: https://us02web.zoom.us/j/89921182385?pwd=T29ZNHdYY2FpSHhIdWwraG
 M0WG1DUT09 
DESCRIPTION:For those who are interested in the current status of the Protest Prayer te
 am effort, and applicability to the current crisis in Israel/Palestine, let
 ’s meet to talk about:\n• The current state of planning/preparation for Pro
 test Prayer Team engagements,\n• Whether we should be seriously considering
  engagement in activities related to the current Israel/Palestine conflict,
  and \n• What next steps should follow.\nAgenda:\n• Summary of planning/fra
 mework to date\n• Discussion of current events &amp; criteria/goals for eng
 agements\n• Next action steps\n \nGoals:\n• Understand current state of pla
 nning/preparation\n• Explore criteria for engagement decisions, in light of
  current events\n• Articulate a strategy/next actions for potential future 
 engagements\n• Identify/recruit volunteers to collaborate on next action st
 eps\nIf you have questions, please email This email address is being protec
 ted from spambots. You need JavaScript enabled to view it.. (mailto:protest
 prayerteam@gmail.com.) You may want to add this email address to your safe 
 senders list for future announcements.\n
X-ALT-DESC;FMTTYPE=text/html:<p>For those who are interested in the current status of the Protest Prayer
  team effort, and applicability to the current crisis in Israel/Palestine, 
 let’s meet to talk about:<br />• The current state of planning/preparation 
 for Protest Prayer Team engagements,<br />• Whether we should be seriously 
 considering engagement in activities related to the current Israel/Palestin
 e conflict, and <br />• What next steps should follow.</p><p>Agenda:<br />•
  Summary of planning/framework to date<br />• Discussion of current events 
 &amp; criteria/goals for engagements<br />• Next action steps<br /> <br />G
 oals:<br />• Understand current state of planning/preparation<br />• Explor
 e criteria for engagement decisions, in light of current events<br />• Arti
 culate a strategy/next actions for potential future engagements<br />• Iden
 tify/recruit volunteers to collaborate on next action steps</p><p>If you ha
 ve questions, please email <a href="mailto:protestprayerteam@gmail.com."><j
 oomla-hidden-mail  is-link="1" is-email="1" first="cHJvdGVzdHByYXllcnRlYW0=
 " last="Z21haWwuY29t" text="cHJvdGVzdHByYXllcnRlYW1AZ21haWwuY29t" base="" >
 This email address is being protected from spambots. You need JavaScript en
 abled to view it.</joomla-hidden-mail>.</a> You may want to add this email 
 address to your safe senders list for future announcements.</p>
DTSTAMP:20260420T003702
DTSTART;TZID=America/Los_Angeles:20231218T193000
DTEND;TZID=America/Los_Angeles:20231218T210000
SEQUENCE:0
TRANSP:OPAQUE
END:VEVENT
END:VCALENDAR