BEGIN:VCALENDAR
VERSION:2.0
PRODID:-//jEvents 2.0 for Joomla//EN
CALSCALE:GREGORIAN
METHOD:PUBLISH
BEGIN:VTIMEZONE
TZID:America/Los_Angeles
BEGIN:STANDARD
DTSTART:20221106T010000
RDATE:20230312T030000
TZOFFSETFROM:-0700
TZOFFSETTO:-0800
TZNAME:America/Los_Angeles PST
END:STANDARD
BEGIN:STANDARD
DTSTART:20231105T010000
RDATE:20240310T030000
TZOFFSETFROM:-0700
TZOFFSETTO:-0800
TZNAME:America/Los_Angeles PST
END:STANDARD
BEGIN:STANDARD
DTSTART:20241103T010000
RDATE:20250309T030000
TZOFFSETFROM:-0700
TZOFFSETTO:-0800
TZNAME:America/Los_Angeles PST
END:STANDARD
BEGIN:STANDARD
DTSTART:20251102T010000
RDATE:20260308T030000
TZOFFSETFROM:-0700
TZOFFSETTO:-0800
TZNAME:America/Los_Angeles PST
END:STANDARD
BEGIN:STANDARD
DTSTART:20261101T010000
RDATE:20270314T030000
TZOFFSETFROM:-0700
TZOFFSETTO:-0800
TZNAME:America/Los_Angeles PST
END:STANDARD
BEGIN:STANDARD
DTSTART:20271107T010000
RDATE:20280312T030000
TZOFFSETFROM:-0700
TZOFFSETTO:-0800
TZNAME:America/Los_Angeles PST
END:STANDARD
BEGIN:STANDARD
DTSTART:20281105T010000
RDATE:20290311T030000
TZOFFSETFROM:-0700
TZOFFSETTO:-0800
TZNAME:America/Los_Angeles PST
END:STANDARD
BEGIN:STANDARD
DTSTART:20291104T010000
RDATE:20300310T030000
TZOFFSETFROM:-0700
TZOFFSETTO:-0800
TZNAME:America/Los_Angeles PST
END:STANDARD
BEGIN:STANDARD
DTSTART:20301103T010000
RDATE:20310309T030000
TZOFFSETFROM:-0700
TZOFFSETTO:-0800
TZNAME:America/Los_Angeles PST
END:STANDARD
BEGIN:STANDARD
DTSTART:20311102T010000
RDATE:20320314T030000
TZOFFSETFROM:-0700
TZOFFSETTO:-0800
TZNAME:America/Los_Angeles PST
END:STANDARD
BEGIN:DAYLIGHT
DTSTART:20221025T190000
RDATE:20221106T010000
TZOFFSETFROM:-0800
TZOFFSETTO:-0700
TZNAME:America/Los_Angeles PDT
END:DAYLIGHT
BEGIN:DAYLIGHT
DTSTART:20230312T030000
RDATE:20231105T010000
TZOFFSETFROM:-0800
TZOFFSETTO:-0700
TZNAME:America/Los_Angeles PDT
END:DAYLIGHT
BEGIN:DAYLIGHT
DTSTART:20240310T030000
RDATE:20241103T010000
TZOFFSETFROM:-0800
TZOFFSETTO:-0700
TZNAME:America/Los_Angeles PDT
END:DAYLIGHT
BEGIN:DAYLIGHT
DTSTART:20250309T030000
RDATE:20251102T010000
TZOFFSETFROM:-0800
TZOFFSETTO:-0700
TZNAME:America/Los_Angeles PDT
END:DAYLIGHT
BEGIN:DAYLIGHT
DTSTART:20260308T030000
RDATE:20261101T010000
TZOFFSETFROM:-0800
TZOFFSETTO:-0700
TZNAME:America/Los_Angeles PDT
END:DAYLIGHT
BEGIN:DAYLIGHT
DTSTART:20270314T030000
RDATE:20271107T010000
TZOFFSETFROM:-0800
TZOFFSETTO:-0700
TZNAME:America/Los_Angeles PDT
END:DAYLIGHT
BEGIN:DAYLIGHT
DTSTART:20280312T030000
RDATE:20281105T010000
TZOFFSETFROM:-0800
TZOFFSETTO:-0700
TZNAME:America/Los_Angeles PDT
END:DAYLIGHT
BEGIN:DAYLIGHT
DTSTART:20290311T030000
RDATE:20291104T010000
TZOFFSETFROM:-0800
TZOFFSETTO:-0700
TZNAME:America/Los_Angeles PDT
END:DAYLIGHT
BEGIN:DAYLIGHT
DTSTART:20300310T030000
RDATE:20301103T010000
TZOFFSETFROM:-0800
TZOFFSETTO:-0700
TZNAME:America/Los_Angeles PDT
END:DAYLIGHT
BEGIN:DAYLIGHT
DTSTART:20310309T030000
RDATE:20311102T010000
TZOFFSETFROM:-0800
TZOFFSETTO:-0700
TZNAME:America/Los_Angeles PDT
END:DAYLIGHT
END:VTIMEZONE
BEGIN:VEVENT
UID:22c4d632909c0adf261ca705e96a66bf
CATEGORIES:Book Studies
CREATED:20240203T175248
SUMMARY:Learning in Public: Lessons for a Racially Divided America from My Daughter's School
LOCATION:Online
DESCRIPTION:From the time Courtney E. Martin strapped her daughter, Maya, to her chest 
 for long walks, she was curious about Emerson Elementary, a public school d
 own the street from her Oakland home. She learned that White families in th
 eir gentrifying neighborhood largely avoided the majority-Black, poorly-rat
 ed school. As she began asking why, a journey of a thousand moral miles beg
 an.\nLearning in Public is the story, not just Courtney's journey, but a wh
 ole country's. Many of us are newly awakened to the continuing racial injus
 tice all around us, but unsure of how to go beyond hashtags and yard signs 
 to be a part of transforming the country. Courtney discovers that her publi
 c school, the foundation of our fragile democracy, is a powerful place to d
 ig deeper.\n
X-ALT-DESC;FMTTYPE=text/html:<p>From the time Courtney E. Martin strapped her daughter, Maya, to her che
 st for long walks, she was curious about Emerson Elementary, a public schoo
 l down the street from her Oakland home. She learned that White families in
  their gentrifying neighborhood largely avoided the majority-Black, poorly-
 rated school. As she began asking why, a journey of a thousand moral miles 
 began.</p><p>Learning in Public&nbsp;is the story, not just Courtney's jour
 ney, but a whole country's. Many of us are newly awakened to the continuing
  racial injustice all around us, but unsure of how to go beyond hashtags an
 d yard signs to be a part of transforming the country. Courtney discovers t
 hat her public school, the foundation of our fragile democracy, is a powerf
 ul place to dig deeper.</p>
CONTACT:RSVP to This email address is being protected from spambots. You need JavaScript enabled to view it. for the zoom link
DTSTAMP:20260420T000240
DTSTART;TZID=America/Los_Angeles:20231026T190000
DTEND;TZID=America/Los_Angeles:20231026T201500
SEQUENCE:0
TRANSP:OPAQUE
END:VEVENT
END:VCALENDAR